BEGIN:VCALENDAR
VERSION:2.0
PRODID:-//Belleville Police Service - ECPv6.15.18//NONSGML v1.0//EN
CALSCALE:GREGORIAN
METHOD:PUBLISH
X-WR-CALNAME:Belleville Police Service
X-ORIGINAL-URL:https://www.bellevilleps.ca
X-WR-CALDESC:Events for Belleville Police Service
REFRESH-INTERVAL;VALUE=DURATION:PT1H
X-Robots-Tag:noindex
X-PUBLISHED-TTL:PT1H
BEGIN:VTIMEZONE
TZID:America/Toronto
BEGIN:DAYLIGHT
TZOFFSETFROM:-0500
TZOFFSETTO:-0400
TZNAME:EDT
DTSTART:20250309T070000
END:DAYLIGHT
BEGIN:STANDARD
TZOFFSETFROM:-0400
TZOFFSETTO:-0500
TZNAME:EST
DTSTART:20251102T060000
END:STANDARD
BEGIN:DAYLIGHT
TZOFFSETFROM:-0500
TZOFFSETTO:-0400
TZNAME:EDT
DTSTART:20260308T070000
END:DAYLIGHT
BEGIN:STANDARD
TZOFFSETFROM:-0400
TZOFFSETTO:-0500
TZNAME:EST
DTSTART:20261101T060000
END:STANDARD
BEGIN:DAYLIGHT
TZOFFSETFROM:-0500
TZOFFSETTO:-0400
TZNAME:EDT
DTSTART:20270314T070000
END:DAYLIGHT
BEGIN:STANDARD
TZOFFSETFROM:-0400
TZOFFSETTO:-0500
TZNAME:EST
DTSTART:20271107T060000
END:STANDARD
END:VTIMEZONE
BEGIN:VEVENT
DTSTART;TZID=America/Toronto:20260423T183000
DTEND;TZID=America/Toronto:20260423T203000
DTSTAMP:20260422T180921
CREATED:20260422T134826Z
LAST-MODIFIED:20260422T134826Z
UID:7190-1776969000-1776976200@www.bellevilleps.ca
SUMMARY:ZONE 2: Community Conversation Table
DESCRIPTION:In 2026\, the Belleville Police Service will introduce a zone policing framework. The city has been divided into four distinct zones\, allowing us to better understand the unique priorities of each area. \nWe are inviting residents in each zone to join our community conversation tables. These are open discussions where you can share your experiences and ideas. We are here to listen\, learn\, and collaborate on the issues that matter most to you.
URL:https://www.bellevilleps.ca/event/zone-2-community-conversation-table/
LOCATION:Parkdale Community Centre\, 119 Birch St\, Belleville\, Ontario\, K8P 2p7\, Canada
CATEGORIES:Events
END:VEVENT
END:VCALENDAR